{"text_format":"3","workbook":"xlsx","n_sheets":15,"sheets":["Hoofdmenu","Speelschema","Game1","Game3","Game5","Formulier1","Game2","Game4","Formulier2","Formulier3","Formulier4","Formulier5","Spelers","Teams","Scores"],"not_rendered":{"images":8,"macros":1,"defined_names":2,"comments":1},"read":"whole","date_system":"1900"}

{"sheet":"Hoofdmenu","index":0,"n_rows":41,"n_cols":2,"rows_kept":41}
{"$rows_empty":39}
[null,"© HW – Products"]
[null,"    Versie 3.0"]

{"sheet":"Speelschema","index":1,"n_rows":25,"n_cols":15,"rows_kept":25,"hidden":true,"merged":[[10,4,10,6],[10,8,10,10],[10,12,10,14]]}
{"$rows_empty":10}
[{"$nulls":4},"BAAN  1 - 2",{"$nulls":3},"BAAN  3 - 4",{"$nulls":3},"BAAN  5 - 6"]
[]
[{"$nulls":4},{"$f":"Game1!D4","v":0},"-",{"$f":"Game1!K4","v":0},null,{"$f":"Game1!D18","v":0},"-",{"$f":"Game1!K18","v":0},null,{"$f":"Game1!D32","v":0},"-",{"$f":"Game1!K32","v":0}]
[]
[]
[{"$nulls":4},{"$f":"Game2!D4","v":0},"-",{"$f":"Game2!K4","v":0},null,{"$f":"Game2!K18","v":0},"-",{"$f":"Game2!D18","v":0},null,{"$f":"Game2!D32","v":0},"-",{"$f":"Game2!K32","v":0}]
[]
[]
[{"$nulls":4},{"$f":"Game3!D4","v":0},"-",{"$f":"Game3!K4","v":0},null,{"$f":"Game3!D18","v":0},"-",{"$f":"Game3!K18","v":0},null,{"$f":"Game3!D32","v":0},"-",{"$f":"Game3!K32","v":0}]
[]
[]
[{"$nulls":4},{"$f":"Game4!D4","v":0},"-",{"$f":"Game4!K4","v":0},null,{"$f":"Game4!D18","v":0},"-",{"$f":"Game4!K18","v":0},null,{"$f":"Game4!D32","v":0},"-",{"$f":"Game4!K32","v":0}]
[]
[]
[{"$nulls":4},{"$f":"Game5!D4","v":0},"-",{"$f":"Game5!K4","v":0},null,{"$f":"Game5!D18","v":0},"-",{"$f":"Game5!K18","v":0},null,{"$f":"Game5!D32","v":0},"-",{"$f":"Game5!K32","v":0}]

{"sheet":"Game1","index":2,"n_rows":41,"n_cols":16,"rows_kept":41,"hidden":true,"merged":[[0,8,0,9],[3,3,3,6],[3,10,3,13],[17,3,17,6],[17,10,17,13],[31,3,31,6],[31,10,31,13]]}
[]
[]
[]
["Links","Rechts",null,{"$f":"Spelers!E2","v":0},{"$nulls":4},{"$f":"SUM(I7:I13)","v":2},null,{"$f":"Spelers!E8","v":0},{"$nulls":4},{"$f":"SUM(P7:P13)","v":0}]
[]
[{"$nulls":4},"Hcp","Score",{"$nulls":5},"Hcp","Score"]
[true,true,"þ",{"$f":"Spelers!B2","v":0},{"$f":"IF(A7=TRUE,Spelers!D2,\"\")","v":0},null,{"$f":"IF(A7=TRUE,SUM(E7+F7),\"\")","v":0},null,null,"þ",{"$f":"Spelers!B8","v":0},{"$f":"IF(B7=TRUE,Spelers!D8,\"\")","v":0},null,{"$f":"IF(B7=TRUE,SUM(L7+M7),\"\")","v":0}]
[true,true,"þ",{"$f":"Spelers!B3","v":0},{"$f":"IF(A8=TRUE,Spelers!D3,\"\")","v":0},null,0,null,null,"þ",{"$f":"Spelers!B9","v":0},{"$f":"IF(B8=TRUE,Spelers!D9,\"\")","v":0},null,0]
[true,true,"þ",{"$f":"Spelers!B4","v":0},{"$f":"IF(A9=TRUE,Spelers!D4,\"\")","v":0},null,0,null,null,"þ",{"$f":"Spelers!B10","v":0},{"$f":"IF(B9=TRUE,Spelers!D10,\"\")","v":0},null,0]
[false,false,"¨",{"$f":"Spelers!B5","v":0},{"$f":"IF(A10=TRUE,Spelers!D5,\"\")","v":""},null,"",null,null,"¨",{"$f":"Spelers!B11","v":0},{"$f":"IF(B10=TRUE,Spelers!D11,\"\")","v":""},null,""]
[false,false,"¨",{"$f":"Spelers!B6","v":0},{"$f":"IF(A11=TRUE,Spelers!D6,\"\")","v":""},null,"",null,null,"¨",{"$f":"Spelers!B12","v":0},{"$f":"IF(B11=TRUE,Spelers!D12,\"\")","v":""},null,""]
[false,false,"¨",{"$f":"Spelers!B7","v":0},{"$f":"IF(A12=TRUE,Spelers!D7,\"\")","v":""},null,"",null,null,"¨",{"$f":"Spelers!B13","v":0},{"$f":"IF(B12=TRUE,Spelers!D13,\"\")","v":""},null,""]
[{"$nulls":4},{"$f":"SUM(E7:E12)","v":0},"TOTAAL",{"$f":"SUM(G7:G12)","v":0},null,2,null,null,{"$f":"SUM(L7:L12)","v":0},"TOTAAL",{"$f":"SUM(N7:N12)","v":0},null,0]
[]
[]
[]
[]
["Links","Rechts",null,{"$f":"Spelers!E14","v":0},{"$nulls":4},{"$f":"SUM(I21:I27)","v":2},null,{"$f":"Spelers!E20","v":0},{"$nulls":4},{"$f":"SUM(P21:P27)","v":0}]
[]
[{"$nulls":4},"Hcp","Score",{"$nulls":5},"Hcp","Score"]
[true,true,"þ",{"$f":"Spelers!B14","v":0},{"$f":"IF(A21=TRUE,Spelers!D14,\"\")","v":0},null,{"$f":"IF(A21=TRUE,SUM(E21+F21),\"\")","v":0},null,null,"þ",{"$f":"Spelers!B20","v":0},{"$f":"IF(B21=TRUE,Spelers!D20,\"\")","v":0},null,{"$f":"IF(B21=TRUE,SUM(L21+M21),\"\")","v":0}]
[true,true,"þ",{"$f":"Spelers!B15","v":0},{"$f":"IF(A22=TRUE,Spelers!D15,\"\")","v":0},null,0,null,null,"þ",{"$f":"Spelers!B21","v":0},{"$f":"IF(B22=TRUE,Spelers!D21,\"\")","v":0},null,0]
[true,true,"þ",{"$f":"Spelers!B16","v":0},{"$f":"IF(A23=TRUE,Spelers!D16,\"\")","v":0},null,0,null,null,"þ",{"$f":"Spelers!B22","v":0},{"$f":"IF(B23=TRUE,Spelers!D22,\"\")","v":0},null,0]
[false,false,"¨",{"$f":"Spelers!B17","v":0},{"$f":"IF(A24=TRUE,Spelers!D17,\"\")","v":""},null,"",null,null,"¨",{"$f":"Spelers!B23","v":0},{"$f":"IF(B24=TRUE,Spelers!D23,\"\")","v":""},null,""]
[false,false,"¨",{"$f":"Spelers!B18","v":0},{"$f":"IF(A25=TRUE,Spelers!D18,\"\")","v":""},null,"",null,null,"¨",{"$f":"Spelers!B24","v":0},{"$f":"IF(B25=TRUE,Spelers!D24,\"\")","v":""},null,""]
[false,false,"¨",{"$f":"Spelers!B19","v":0},{"$f":"IF(A26=TRUE,Spelers!D19,\"\")","v":""},null,"",null,null,"¨",{"$f":"Spelers!B25","v":0},{"$f":"IF(B26=TRUE,Spelers!D25,\"\")","v":""},null,""]
[{"$nulls":4},{"$f":"SUM(E21:E26)","v":0},"TOTAAL",{"$f":"SUM(G21:G26)","v":0},null,2,null,null,{"$f":"SUM(L21:L26)","v":0},"TOTAAL",{"$f":"SUM(N21:N26)","v":0},null,0]
[]
[]
[]
[]
["Links","Rechts",null,{"$f":"Spelers!E26","v":0},{"$nulls":4},{"$f":"SUM(I35:I41)","v":0},null,{"$f":"Spelers!E32","v":0},{"$nulls":4},{"$f":"SUM(P35:P41)","v":2}]
[]
[{"$nulls":4},"Hcp","Score",{"$nulls":5},"Hcp","Score"]
[true,true,"þ",{"$f":"Spelers!B26","v":0},{"$f":"IF(A35=TRUE,Spelers!D26,\"\")","v":0},null,{"$f":"IF(A35=TRUE,SUM(E35+F35),\"\")","v":0},null,null,"þ",{"$f":"Spelers!B32","v":0},{"$f":"IF(B35=TRUE,Spelers!D32,\"\")","v":0},null,{"$f":"IF(B35=TRUE,SUM(L35+M35),\"\")","v":0}]
[true,true,"þ",{"$f":"Spelers!B27","v":0},{"$f":"IF(A36=TRUE,Spelers!D27,\"\")","v":0},null,0,null,null,"þ",{"$f":"Spelers!B33","v":0},{"$f":"IF(B36=TRUE,Spelers!D33,\"\")","v":0},null,0]
[true,true,"þ",{"$f":"Spelers!B28","v":0},{"$f":"IF(A37=TRUE,Spelers!D28,\"\")","v":0},null,0,null,null,"þ",{"$f":"Spelers!B34","v":0},{"$f":"IF(B37=TRUE,Spelers!D34,\"\")","v":0},null,0]
[false,false,"¨",{"$f":"Spelers!B29","v":0},{"$f":"IF(A38=TRUE,Spelers!D29,\"\")","v":""},null,"",null,null,"¨",{"$f":"Spelers!B35","v":0},{"$f":"IF(B38=TRUE,Spelers!D35,\"\")","v":""},null,""]
[false,false,"¨",{"$f":"Spelers!B30","v":0},{"$f":"IF(A39=TRUE,Spelers!D30,\"\")","v":""},null,"",null,null,"¨",{"$f":"Spelers!B36","v":0},{"$f":"IF(B39=TRUE,Spelers!D36,\"\")","v":""},null,""]
[false,false,"¨",{"$f":"Spelers!B31","v":0},{"$f":"IF(A40=TRUE,Spelers!D31,\"\")","v":""},null,"",null,null,"¨",{"$f":"Spelers!B37","v":0},{"$f":"IF(B40=TRUE,Spelers!D37,\"\")","v":""},null,""]
[{"$nulls":4},{"$f":"SUM(E35:E40)","v":0},"TOTAAL",{"$f":"SUM(G35:G40)","v":0},null,0,null,null,{"$f":"SUM(L35:L40)","v":0},"TOTAAL",{"$f":"SUM(N35:N40)","v":0},null,2]

{"sheet":"Game3","index":3,"n_rows":41,"n_cols":16,"rows_kept":41,"hidden":true,"merged":[[0,8,0,9],[3,3,3,6],[3,10,3,13],[17,3,17,6],[17,10,17,13],[31,3,31,6],[31,10,31,13]]}
[1]
[]
[]
["Links","Rechts",null,{"$f":"Spelers!E14","v":0},{"$nulls":4},{"$f":"SUM(I7:I13)","v":2},null,{"$f":"Spelers!E26","v":0},{"$nulls":4},{"$f":"SUM(P7:P13)","v":0}]
[]
[{"$nulls":4},"Hcp","Score",{"$nulls":5},"Hcp","Score"]
[true,true,"þ",{"$f":"Spelers!B14","v":0},{"$f":"IF(A7=TRUE,Spelers!D14,\"\")","v":0},null,{"$f":"IF(A7=TRUE,SUM(E7+F7),\"\")","v":0},null,null,"þ",{"$f":"Spelers!B26","v":0},{"$f":"IF(B7=TRUE,Spelers!D26,\"\")","v":0},null,{"$f":"IF(B7=TRUE,SUM(L7+M7),\"\")","v":0}]
[true,true,"þ",{"$f":"Spelers!B15","v":0},{"$f":"IF(A8=TRUE,Spelers!D15,\"\")","v":0},null,0,null,null,"þ",{"$f":"Spelers!B27","v":0},{"$f":"IF(B8=TRUE,Spelers!D27,\"\")","v":0},null,0]
[true,true,"þ",{"$f":"Spelers!B16","v":0},{"$f":"IF(A9=TRUE,Spelers!D16,\"\")","v":0},null,0,null,null,"þ",{"$f":"Spelers!B28","v":0},{"$f":"IF(B9=TRUE,Spelers!D28,\"\")","v":0},null,0]
[false,false,"¨",{"$f":"Spelers!B17","v":0},{"$f":"IF(A10=TRUE,Spelers!D17,\"\")","v":""},null,"",null,null,"¨",{"$f":"Spelers!B29","v":0},{"$f":"IF(B10=TRUE,Spelers!D29,\"\")","v":""},null,""]
[false,false,"¨",{"$f":"Spelers!B18","v":0},{"$f":"IF(A11=TRUE,Spelers!D18,\"\")","v":""},null,"",null,null,"¨",{"$f":"Spelers!B30","v":0},{"$f":"IF(B11=TRUE,Spelers!D30,\"\")","v":""},null,""]
[false,false,"¨",{"$f":"Spelers!B19","v":0},{"$f":"IF(A12=TRUE,Spelers!D19,\"\")","v":""},null,"",null,null,"¨",{"$f":"Spelers!B31","v":0},{"$f":"IF(B12=TRUE,Spelers!D31,\"\")","v":""},null,""]
[{"$nulls":4},{"$f":"SUM(E7:E12)","v":0},"TOTAAL",{"$f":"SUM(G7:G12)","v":0},null,2,null,null,{"$f":"SUM(L7:L12)","v":0},"TOTAAL",{"$f":"SUM(N7:N12)","v":0},null,0]
[]
[]
[]
[]
["Links","Rechts",null,{"$f":"Spelers!E20","v":0},{"$nulls":4},{"$f":"SUM(I21:I27)","v":2},null,{"$f":"Spelers!E2","v":0},{"$nulls":4},{"$f":"SUM(P21:P27)","v":0}]
[]
[{"$nulls":4},"Hcp","Score",{"$nulls":5},"Hcp","Score"]
[true,true,"þ",{"$f":"Spelers!B20","v":0},{"$f":"IF(A21=TRUE,Spelers!D20,\"\")","v":0},null,{"$f":"IF(A21=TRUE,SUM(E21+F21),\"\")","v":0},null,null,"þ",{"$f":"Spelers!B2","v":0},{"$f":"IF(B21=TRUE,Spelers!D2,\"\")","v":0},null,{"$f":"IF(B21=TRUE,SUM(L21+M21),\"\")","v":0}]
[true,true,"þ",{"$f":"Spelers!B21","v":0},{"$f":"IF(A22=TRUE,Spelers!D21,\"\")","v":0},null,0,null,null,"þ",{"$f":"Spelers!B3","v":0},{"$f":"IF(B22=TRUE,Spelers!D3,\"\")","v":0},null,0]
[true,true,"þ",{"$f":"Spelers!B22","v":0},{"$f":"IF(A23=TRUE,Spelers!D22,\"\")","v":0},null,0,null,null,"þ",{"$f":"Spelers!B4","v":0},{"$f":"IF(B23=TRUE,Spelers!D4,\"\")","v":0},null,0]
[false,false,"¨",{"$f":"Spelers!B23","v":0},{"$f":"IF(A24=TRUE,Spelers!D23,\"\")","v":""},null,"",null,null,"¨",{"$f":"Spelers!B5","v":0},{"$f":"IF(B24=TRUE,Spelers!D5,\"\")","v":""},null,""]
[false,false,"¨",{"$f":"Spelers!B24","v":0},{"$f":"IF(A25=TRUE,Spelers!D24,\"\")","v":""},null,"",null,null,"¨",{"$f":"Spelers!B6","v":0},{"$f":"IF(B25=TRUE,Spelers!D6,\"\")","v":""},null,""]
[false,false,"¨",{"$f":"Spelers!B25","v":0},{"$f":"IF(A26=TRUE,Spelers!D25,\"\")","v":""},null,"",null,null,"¨",{"$f":"Spelers!B7","v":0},{"$f":"IF(B26=TRUE,Spelers!D7,\"\")","v":""},null,""]
[{"$nulls":4},{"$f":"SUM(E21:E26)","v":0},"TOTAAL",{"$f":"SUM(G21:G26)","v":0},null,2,null,null,{"$f":"SUM(L21:L26)","v":0},"TOTAAL",{"$f":"SUM(N21:N26)","v":0},null,0]
[]
[]
[]
[]
["Links","Rechts",null,{"$f":"Spelers!E32","v":0},{"$nulls":4},{"$f":"SUM(I35:I41)","v":0},null,{"$f":"Spelers!E8","v":0},{"$nulls":4},{"$f":"SUM(P35:P41)","v":2}]
[]
[{"$nulls":4},"Hcp","Score",{"$nulls":5},"Hcp","Score"]
[true,true,"þ",{"$f":"Spelers!B32","v":0},{"$f":"IF(A35=TRUE,Spelers!D32,\"\")","v":0},null,{"$f":"IF(A35=TRUE,SUM(E35+F35),\"\")","v":0},null,null,"þ",{"$f":"Spelers!B8","v":0},{"$f":"IF(B35=TRUE,Spelers!D8,\"\")","v":0},null,{"$f":"IF(B35=TRUE,SUM(L35+M35),\"\")","v":0}]
[true,true,"þ",{"$f":"Spelers!B33","v":0},{"$f":"IF(A36=TRUE,Spelers!D33,\"\")","v":0},null,0,null,null,"þ",{"$f":"Spelers!B9","v":0},{"$f":"IF(B36=TRUE,Spelers!D9,\"\")","v":0},null,0]
[true,true,"þ",{"$f":"Spelers!B34","v":0},{"$f":"IF(A37=TRUE,Spelers!D34,\"\")","v":0},null,0,null,null,"þ",{"$f":"Spelers!B10","v":0},{"$f":"IF(B37=TRUE,Spelers!D10,\"\")","v":0},null,0]
[false,false,"¨",{"$f":"Spelers!B35","v":0},{"$f":"IF(A38=TRUE,Spelers!D35,\"\")","v":""},null,"",null,null,"¨",{"$f":"Spelers!B11","v":0},{"$f":"IF(B38=TRUE,Spelers!D11,\"\")","v":""},null,""]
[false,false,"¨",{"$f":"Spelers!B36","v":0},{"$f":"IF(A39=TRUE,Spelers!D36,\"\")","v":""},null,"",null,null,"¨",{"$f":"Spelers!B12","v":0},{"$f":"IF(B39=TRUE,Spelers!D12,\"\")","v":""},null,""]
[false,false,"¨",{"$f":"Spelers!B37","v":0},{"$f":"IF(A40=TRUE,Spelers!D37,\"\")","v":""},null,"",null,null,"¨",{"$f":"Spelers!B13","v":0},{"$f":"IF(B40=TRUE,Spelers!D13,\"\")","v":""},null,""]
[{"$nulls":4},{"$f":"SUM(E35:E40)","v":0},"TOTAAL",{"$f":"SUM(G35:G40)","v":0},null,0,null,null,{"$f":"SUM(L35:L40)","v":0},"TOTAAL",{"$f":"SUM(N35:N40)","v":0},null,2]

{"sheet":"Game5","index":4,"n_rows":41,"n_cols":16,"rows_kept":41,"hidden":true,"merged":[[0,8,0,9],[3,3,3,6],[3,10,3,13],[17,3,17,6],[17,10,17,13],[31,3,31,6],[31,10,31,13]]}
[]
[]
[]
["Links","Rechts",null,{"$f":"Spelers!E26","v":0},{"$nulls":4},{"$f":"SUM(I7:I13)","v":2},null,{"$f":"Spelers!E2","v":0},{"$nulls":4},{"$f":"SUM(P7:P13)","v":0}]
[]
[{"$nulls":4},"Hcp","Score",{"$nulls":5},"Hcp","Score"]
[true,true,"þ",{"$f":"Spelers!B26","v":0},{"$f":"IF(A7=TRUE,Spelers!D26,\"\")","v":0},null,{"$f":"IF(A7=TRUE,SUM(E7+F7),\"\")","v":0},null,null,"þ",{"$f":"Spelers!B2","v":0},{"$f":"IF(B7=TRUE,Spelers!D2,\"\")","v":0},null,{"$f":"IF(B7=TRUE,SUM(L7+M7),\"\")","v":0}]
[true,true,"þ",{"$f":"Spelers!B27","v":0},{"$f":"IF(A8=TRUE,Spelers!D27,\"\")","v":0},null,0,null,null,"þ",{"$f":"Spelers!B3","v":0},{"$f":"IF(B8=TRUE,Spelers!D3,\"\")","v":0},null,0]
[true,true,"þ",{"$f":"Spelers!B28","v":0},{"$f":"IF(A9=TRUE,Spelers!D28,\"\")","v":0},null,0,null,null,"þ",{"$f":"Spelers!B4","v":0},{"$f":"IF(B9=TRUE,Spelers!D4,\"\")","v":0},null,0]
[false,false,"¨",{"$f":"Spelers!B29","v":0},{"$f":"IF(A10=TRUE,Spelers!D29,\"\")","v":""},null,"",null,null,"¨",{"$f":"Spelers!B5","v":0},{"$f":"IF(B10=TRUE,Spelers!D5,\"\")","v":""},null,""]
[false,false,"¨",{"$f":"Spelers!B30","v":0},{"$f":"IF(A11=TRUE,Spelers!D30,\"\")","v":""},null,"",null,null,"¨",{"$f":"Spelers!B6","v":0},{"$f":"IF(B11=TRUE,Spelers!D6,\"\")","v":""},null,""]
[false,false,"¨",{"$f":"Spelers!B31","v":0},{"$f":"IF(A12=TRUE,Spelers!D31,\"\")","v":""},null,"",null,null,"¨",{"$f":"Spelers!B7","v":0},{"$f":"IF(B12=TRUE,Spelers!D7,\"\")","v":""},null,""]
[{"$nulls":4},{"$f":"SUM(E7:E12)","v":0},"TOTAAL",{"$f":"SUM(G7:G12)","v":0},null,2,null,null,{"$f":"SUM(L7:L12)","v":0},"TOTAAL",{"$f":"SUM(N7:N12)","v":0},null,0]
[]
[]
[]
[]
["Links","Rechts",null,{"$f":"Spelers!E32","v":0},{"$nulls":4},{"$f":"SUM(I21:I27)","v":0},null,{"$f":"Spelers!E14","v":0},{"$nulls":4},{"$f":"SUM(P21:P27)","v":2}]
[]
[{"$nulls":4},"Hcp","Score",{"$nulls":5},"Hcp","Score"]
[true,true,"þ",{"$f":"Spelers!B32","v":0},{"$f":"IF(A21=TRUE,Spelers!D32,\"\")","v":0},null,{"$f":"IF(A21=TRUE,SUM(E21+F21),\"\")","v":0},null,null,"þ",{"$f":"Spelers!B14","v":0},{"$f":"IF(B21=TRUE,Spelers!D14,\"\")","v":0},null,{"$f":"IF(B21=TRUE,SUM(L21+M21),\"\")","v":0}]
[true,true,"þ",{"$f":"Spelers!B33","v":0},{"$f":"IF(A22=TRUE,Spelers!D33,\"\")","v":0},null,0,null,null,"þ",{"$f":"Spelers!B15","v":0},{"$f":"IF(B22=TRUE,Spelers!D15,\"\")","v":0},null,0]
[true,true,"þ",{"$f":"Spelers!B34","v":0},{"$f":"IF(A23=TRUE,Spelers!D34,\"\")","v":0},null,0,null,null,"þ",{"$f":"Spelers!B16","v":0},{"$f":"IF(B23=TRUE,Spelers!D16,\"\")","v":0},null,0]
[false,false,"¨",{"$f":"Spelers!B35","v":0},{"$f":"IF(A24=TRUE,Spelers!D35,\"\")","v":""},null,"",null,null,"¨",{"$f":"Spelers!B17","v":0},{"$f":"IF(B24=TRUE,Spelers!D17,\"\")","v":""},null,""]
[false,false,"¨",{"$f":"Spelers!B36","v":0},{"$f":"IF(A25=TRUE,Spelers!D36,\"\")","v":""},null,"",null,null,"¨",{"$f":"Spelers!B18","v":0},{"$f":"IF(B25=TRUE,Spelers!D18,\"\")","v":""},null,""]
[false,false,"¨",{"$f":"Spelers!B37","v":0},{"$f":"IF(A26=TRUE,Spelers!D37,\"\")","v":""},null,"",null,null,"¨",{"$f":"Spelers!B19","v":0},{"$f":"IF(B26=TRUE,Spelers!D19,\"\")","v":""},null,""]
[{"$nulls":4},{"$f":"SUM(E21:E26)","v":0},"TOTAAL",{"$f":"SUM(G21:G26)","v":0},null,0,null,null,{"$f":"SUM(L21:L26)","v":0},"TOTAAL",{"$f":"SUM(N21:N26)","v":0},null,2]
[]
[]
[]
[]
["Links","Rechts",null,{"$f":"Spelers!E8","v":0},{"$nulls":4},{"$f":"SUM(I35:I41)","v":2},null,{"$f":"Spelers!E20","v":0},{"$nulls":4},{"$f":"SUM(P35:P41)","v":0}]
[]
[{"$nulls":4},"Hcp","Score",{"$nulls":5},"Hcp","Score"]
[true,true,"þ",{"$f":"Spelers!B8","v":0},{"$f":"IF(A35=TRUE,Spelers!D8,\"\")","v":0},null,{"$f":"IF(A35=TRUE,SUM(E35+F35),\"\")","v":0},null,null,"þ",{"$f":"Spelers!B20","v":0},{"$f":"IF(B35=TRUE,Spelers!D20,\"\")","v":0},null,{"$f":"IF(B35=TRUE,SUM(L35+M35),\"\")","v":0}]
[true,true,"þ",{"$f":"Spelers!B9","v":0},{"$f":"IF(A36=TRUE,Spelers!D9,\"\")","v":0},null,0,null,null,"þ",{"$f":"Spelers!B21","v":0},{"$f":"IF(B36=TRUE,Spelers!D21,\"\")","v":0},null,0]
[true,true,"þ",{"$f":"Spelers!B10","v":0},{"$f":"IF(A37=TRUE,Spelers!D10,\"\")","v":0},null,0,null,null,"þ",{"$f":"Spelers!B22","v":0},{"$f":"IF(B37=TRUE,Spelers!D22,\"\")","v":0},null,0]
[false,false,"¨",{"$f":"Spelers!B11","v":0},{"$f":"IF(A38=TRUE,Spelers!D11,\"\")","v":""},null,"",null,null,"¨",{"$f":"Spelers!B23","v":0},{"$f":"IF(B38=TRUE,Spelers!D23,\"\")","v":""},null,""]
[false,false,"¨",{"$f":"Spelers!B12","v":0},{"$f":"IF(A39=TRUE,Spelers!D12,\"\")","v":""},null,"",null,null,"¨",{"$f":"Spelers!B24","v":0},{"$f":"IF(B39=TRUE,Spelers!D24,\"\")","v":""},null,""]
[false,false,"¨",{"$f":"Spelers!B13","v":0},{"$f":"IF(A40=TRUE,Spelers!D13,\"\")","v":""},null,"",null,null,"¨",{"$f":"Spelers!B25","v":0},{"$f":"IF(B40=TRUE,Spelers!D25,\"\")","v":""},null,""]
[{"$nulls":4},{"$f":"SUM(E35:E40)","v":0},"TOTAAL",{"$f":"SUM(G35:G40)","v":0},null,2,null,null,{"$f":"SUM(L35:L40)","v":0},"TOTAAL",{"$f":"SUM(N35:N40)","v":0},null,0]

{"sheet":"Formulier1","index":5,"n_rows":40,"n_cols":15,"rows_kept":40,"hidden":true,"merged":[[0,4,0,6],[2,3,2,6],[2,10,2,13],[14,4,14,6],[16,3,16,6],[16,10,16,13],[28,4,28,6],[30,3,30,6],[30,10,30,13]]}
[{"$nulls":3},"GAME 1: ",{"$f":"Speelschema!E11","v":"BAAN  1 - 2"}]
[]
[{"$nulls":3},{"$f":"Spelers!E2","v":0},{"$nulls":6},{"$f":"Spelers!E8","v":0}]
[]
[{"$nulls":4},"Hcp","Score",{"$nulls":5},"Hcp","Score"]
[{"$nulls":3},{"$f":"Spelers!B2","v":0},{"$f":"Spelers!D2","v":0},null,{"$f":"IF(A6=TRUE,SUM(E6+F6),\"\")","v":""},{"$nulls":3},{"$f":"Spelers!B8","v":0},{"$f":"Spelers!D8","v":0},null,{"$f":"IF(B6=TRUE,SUM(L6+M6),\"\")","v":""}]
[{"$nulls":3},{"$f":"Spelers!B3","v":0},{"$f":"Spelers!D3","v":0},null,"",{"$nulls":3},{"$f":"Spelers!B9","v":0},{"$f":"Spelers!D9","v":0},null,""]
[{"$nulls":3},{"$f":"Spelers!B4","v":0},{"$f":"Spelers!D4","v":0},null,"",{"$nulls":3},{"$f":"Spelers!B10","v":0},{"$f":"Spelers!D10","v":0},null,""]
[{"$nulls":3},{"$f":"Spelers!B5","v":0},{"$f":"Spelers!D5","v":0},null,"",{"$nulls":3},{"$f":"Spelers!B11","v":0},{"$f":"Spelers!D11","v":0},null,""]
[{"$nulls":3},{"$f":"Spelers!B6","v":0},{"$f":"Spelers!D6","v":0},null,"",{"$nulls":3},{"$f":"Spelers!B12","v":0},{"$f":"Spelers!D12","v":0},null,""]
[{"$nulls":3},{"$f":"Spelers!B7","v":0},{"$f":"Spelers!D7","v":0},null,"",{"$nulls":3},{"$f":"Spelers!B13","v":0},{"$f":"Spelers!D13","v":0},null,""]
[{"$nulls":5},"TOTAAL",{"$nulls":6},"TOTAAL"]
[]
[{"$nulls":3},"- - - - - - - - - - - - - - - - - - - - - - - - - -","- - - - - - - - - - - - - - - - - - - - - - - - - -","- - - - - - - - - - - - - - - - - - - - - - - - - -","- - - - - - - - - - - - - - - - - - - - - - - - - -","- - - - - - - - - - - - - - - - - - - - - - - - - -","- - - - - - - - - - - - - - - - - - - - - - - - - -","- - - - - - - - - - - - - - - - - - - - - - - - - -","- - - - - - - - - - - - - - - - - - - - - - - - - -","- - - - - - - - - - - - - - - - - - - - - - - - - -","- - - - - - - - - - - - - - - - - - - - - - - - - -","- - - - - - - - - - - - - - - - - - - - - - - - - -"," "]
[{"$nulls":3},"GAME 1: ",{"$f":"Speelschema!I11","v":"BAAN  3 - 4"}]
[]
[{"$nulls":3},{"$f":"Spelers!E14","v":0},{"$nulls":6},{"$f":"Spelers!E20","v":0}]
[]
[{"$nulls":4},"Hcp","Score",{"$nulls":5},"Hcp","Score"]
[{"$nulls":3},{"$f":"Spelers!B14","v":0},{"$f":"Spelers!D14","v":0},null,{"$f":"IF(A20=TRUE,SUM(E20+F20),\"\")","v":""},{"$nulls":3},{"$f":"Spelers!B20","v":0},{"$f":"Spelers!D20","v":0},null,{"$f":"IF(B20=TRUE,SUM(L20+M20),\"\")","v":""}]
[{"$nulls":3},{"$f":"Spelers!B15","v":0},{"$f":"Spelers!D15","v":0},null,"",{"$nulls":3},{"$f":"Spelers!B21","v":0},{"$f":"Spelers!D21","v":0},null,""]
[{"$nulls":3},{"$f":"Spelers!B16","v":0},{"$f":"Spelers!D16","v":0},null,"",{"$nulls":3},{"$f":"Spelers!B22","v":0},{"$f":"Spelers!D22","v":0},null,""]
[{"$nulls":3},{"$f":"Spelers!B17","v":0},{"$f":"Spelers!D17","v":0},null,"",{"$nulls":3},{"$f":"Spelers!B23","v":0},{"$f":"Spelers!D23","v":0},null,""]
[{"$nulls":3},{"$f":"Spelers!B18","v":0},{"$f":"Spelers!D18","v":0},null,"",{"$nulls":3},{"$f":"Spelers!B24","v":0},{"$f":"Spelers!D24","v":0},null,""]
[{"$nulls":3},{"$f":"Spelers!B19","v":0},{"$f":"Spelers!D19","v":0},null,"",{"$nulls":3},{"$f":"Spelers!B25","v":0},{"$f":"Spelers!D25","v":0},null,""]
[{"$nulls":5},"TOTAAL",{"$nulls":6},"TOTAAL"]
[]
[]
[{"$nulls":3},"GAME 1:",{"$f":"Speelschema!M11","v":"BAAN  5 - 6"}]
[]
[{"$nulls":3},{"$f":"Spelers!E26","v":0},{"$nulls":6},{"$f":"Spelers!E32","v":0}]
[]
[{"$nulls":4},"Hcp","Score",{"$nulls":5},"Hcp","Score"]
[{"$nulls":3},{"$f":"Spelers!B26","v":0},{"$f":"Spelers!D26","v":0},null,{"$f":"IF(A34=TRUE,SUM(E34+F34),\"\")","v":""},{"$nulls":3},{"$f":"Spelers!B32","v":0},{"$f":"Spelers!D32","v":0},null,{"$f":"IF(B34=TRUE,SUM(L34+M34),\"\")","v":""}]
[{"$nulls":3},{"$f":"Spelers!B27","v":0},{"$f":"Spelers!D27","v":0},null,"",{"$nulls":3},{"$f":"Spelers!B33","v":0},{"$f":"Spelers!D33","v":0},null,""]
[{"$nulls":3},{"$f":"Spelers!B28","v":0},{"$f":"Spelers!D28","v":0},null,"",{"$nulls":3},{"$f":"Spelers!B34","v":0},{"$f":"Spelers!D34","v":0},null,""]
[{"$nulls":3},{"$f":"Spelers!B29","v":0},{"$f":"Spelers!D29","v":0},null,"",{"$nulls":3},{"$f":"Spelers!B35","v":0},{"$f":"Spelers!D35","v":0},null,""]
[{"$nulls":3},{"$f":"Spelers!B30","v":0},{"$f":"Spelers!D30","v":0},null,"",{"$nulls":3},{"$f":"Spelers!B36","v":0},{"$f":"Spelers!D36","v":0},null,""]
[{"$nulls":3},{"$f":"Spelers!B31","v":0},{"$f":"Spelers!D31","v":0},null,"",{"$nulls":3},{"$f":"Spelers!B37","v":0},{"$f":"Spelers!D37","v":0},null,""]
[{"$nulls":5},"TOTAAL",{"$nulls":6},"TOTAAL"]

{"sheet":"Game2","index":6,"n_rows":41,"n_cols":16,"rows_kept":41,"hidden":true,"merged":[[0,8,0,9],[3,3,3,6],[3,10,3,13],[17,3,17,6],[17,10,17,13],[31,3,31,6],[31,10,31,13]]}
[]
[]
[]
["Links","Rechts",null,{"$f":"Spelers!E32","v":0},{"$nulls":4},{"$f":"SUM(I7:I13)","v":0},null,{"$f":"Spelers!E20","v":0},{"$nulls":4},{"$f":"SUM(P7:P13)","v":2}]
[]
[{"$nulls":4},"Hcp","Score",{"$nulls":5},"Hcp","Score"]
[true,true,"þ",{"$f":"Spelers!B32","v":0},{"$f":"IF(A7=TRUE,Spelers!D32,\"\")","v":0},null,{"$f":"IF(A7=TRUE,SUM(E7+F7),\"\")","v":0},null,null,"þ",{"$f":"Spelers!B20","v":0},{"$f":"IF(B7=TRUE,Spelers!D20,\"\")","v":0},null,{"$f":"IF(B7=TRUE,SUM(L7+M7),\"\")","v":0}]
[true,true,"þ",{"$f":"Spelers!B33","v":0},{"$f":"IF(A8=TRUE,Spelers!D33,\"\")","v":0},null,0,null,null,"þ",{"$f":"Spelers!B21","v":0},{"$f":"IF(B8=TRUE,Spelers!D21,\"\")","v":0},null,0]
[true,true,"þ",{"$f":"Spelers!B34","v":0},{"$f":"IF(A9=TRUE,Spelers!D34,\"\")","v":0},null,0,null,null,"þ",{"$f":"Spelers!B22","v":0},{"$f":"IF(B9=TRUE,Spelers!D22,\"\")","v":0},null,0]
[false,false,"¨",{"$f":"Spelers!B35","v":0},{"$f":"IF(A10=TRUE,Spelers!D35,\"\")","v":""},null,"",null,null,"¨",{"$f":"Spelers!B23","v":0},{"$f":"IF(B10=TRUE,Spelers!D23,\"\")","v":""},null,""]
[false,false,"¨",{"$f":"Spelers!B36","v":0},{"$f":"IF(A11=TRUE,Spelers!D36,\"\")","v":""},null,"",null,null,"¨",{"$f":"Spelers!B24","v":0},{"$f":"IF(B11=TRUE,Spelers!D24,\"\")","v":""},null,""]
[false,false,"¨",{"$f":"Spelers!B37","v":0},{"$f":"IF(A12=TRUE,Spelers!D37,\"\")","v":""},null,"",null,null,"¨",{"$f":"Spelers!B25","v":0},{"$f":"IF(B12=TRUE,Spelers!D25,\"\")","v":""},null,""]
[{"$nulls":4},{"$f":"SUM(E7:E12)","v":0},"TOTAAL",{"$f":"SUM(G7:G12)","v":0},null,0,null,null,{"$f":"SUM(L7:L12)","v":0},"TOTAAL",{"$f":"SUM(N7:N12)","v":0},null,2]
[]
[]
[]
[]
["Links","Rechts",null,{"$f":"Spelers!E8","v":0},{"$nulls":4},{"$f":"SUM(I21:I27)","v":0},null,{"$f":"Spelers!E26","v":0},{"$nulls":4},{"$f":"SUM(P21:P27)","v":2}]
[]
[{"$nulls":4},"Hcp","Score",{"$nulls":5},"Hcp","Score"]
[true,true,"þ",{"$f":"Spelers!B8","v":0},{"$f":"IF(A21=TRUE,Spelers!D8,\"\")","v":0},null,{"$f":"IF(A21=TRUE,SUM(E21+F21),\"\")","v":0},null,null,"þ",{"$f":"Spelers!B26","v":0},{"$f":"IF(B21=TRUE,Spelers!D26,\"\")","v":0},null,{"$f":"IF(B21=TRUE,SUM(L21+M21),\"\")","v":0}]
[true,true,"þ",{"$f":"Spelers!B9","v":0},{"$f":"IF(A22=TRUE,Spelers!D9,\"\")","v":0},null,0,null,null,"þ",{"$f":"Spelers!B27","v":0},{"$f":"IF(B22=TRUE,Spelers!D27,\"\")","v":0},null,0]
[true,true,"þ",{"$f":"Spelers!B10","v":0},{"$f":"IF(A23=TRUE,Spelers!D10,\"\")","v":0},null,0,null,null,"þ",{"$f":"Spelers!B28","v":0},{"$f":"IF(B23=TRUE,Spelers!D28,\"\")","v":0},null,0]
[false,false,"¨",{"$f":"Spelers!B11","v":0},{"$f":"IF(A24=TRUE,Spelers!D11,\"\")","v":""},null,"",null,null,"¨",{"$f":"Spelers!B29","v":0},{"$f":"IF(B24=TRUE,Spelers!D29,\"\")","v":""},null,""]
[false,false,"¨",{"$f":"Spelers!B12","v":0},{"$f":"IF(A25=TRUE,Spelers!D12,\"\")","v":""},null,"",null,null,"¨",{"$f":"Spelers!B30","v":0},{"$f":"IF(B25=TRUE,Spelers!D30,\"\")","v":""},null,""]
[false,false,"¨",{"$f":"Spelers!B13","v":0},{"$f":"IF(A26=TRUE,Spelers!D13,\"\")","v":""},null,"",null,null,"¨",{"$f":"Spelers!B31","v":0},{"$f":"IF(B26=TRUE,Spelers!D31,\"\")","v":""},null,""]
[{"$nulls":4},{"$f":"SUM(E21:E26)","v":0},"TOTAAL",{"$f":"SUM(G21:G26)","v":0},null,0,null,null,{"$f":"SUM(L21:L26)","v":0},"TOTAAL",{"$f":"SUM(N21:N26)","v":0},null,2]
[]
[]
[]
[]
["Links","Rechts",null,{"$f":"Spelers!E14","v":0},{"$nulls":4},{"$f":"SUM(I35:I41)","v":0},null,{"$f":"Spelers!E2","v":0},{"$nulls":4},{"$f":"SUM(P35:P41)","v":2}]
[]
[{"$nulls":4},"Hcp","Score",{"$nulls":5},"Hcp","Score"]
[true,true,"þ",{"$f":"Spelers!B14","v":0},{"$f":"IF(A35=TRUE,Spelers!D14,\"\")","v":0},null,{"$f":"IF(A35=TRUE,SUM(E35+F35),\"\")","v":0},null,null,"þ",{"$f":"Spelers!B2","v":0},{"$f":"IF(B35=TRUE,Spelers!D2,\"\")","v":0},null,{"$f":"IF(B35=TRUE,SUM(L35+M35),\"\")","v":0}]
[true,true,"þ",{"$f":"Spelers!B15","v":0},{"$f":"IF(A36=TRUE,Spelers!D15,\"\")","v":0},null,0,null,null,"þ",{"$f":"Spelers!B3","v":0},{"$f":"IF(B36=TRUE,Spelers!D3,\"\")","v":0},null,0]
[true,true,"þ",{"$f":"Spelers!B16","v":0},{"$f":"IF(A37=TRUE,Spelers!D16,\"\")","v":0},null,0,null,null,"þ",{"$f":"Spelers!B4","v":0},{"$f":"IF(B37=TRUE,Spelers!D4,\"\")","v":0},null,0]
[false,false,"¨",{"$f":"Spelers!B17","v":0},{"$f":"IF(A38=TRUE,Spelers!D17,\"\")","v":""},null,"",null,null,"¨",{"$f":"Spelers!B5","v":0},{"$f":"IF(B38=TRUE,Spelers!D5,\"\")","v":""},null,""]
[false,false,"¨",{"$f":"Spelers!B18","v":0},{"$f":"IF(A39=TRUE,Spelers!D18,\"\")","v":""},null,"",null,null,"¨",{"$f":"Spelers!B6","v":0},{"$f":"IF(B39=TRUE,Spelers!D6,\"\")","v":""},null,""]
[false,false,"¨",{"$f":"Spelers!B19","v":0},{"$f":"IF(A40=TRUE,Spelers!D19,\"\")","v":""},null,"",null,null,"¨",{"$f":"Spelers!B7","v":0},{"$f":"IF(B40=TRUE,Spelers!D7,\"\")","v":""},null,""]
[{"$nulls":4},{"$f":"SUM(E35:E40)","v":0},"TOTAAL",{"$f":"SUM(G35:G40)","v":0},null,0,null,null,{"$f":"SUM(L35:L40)","v":0},"TOTAAL",{"$f":"SUM(N35:N40)","v":0},null,2]

{"sheet":"Game4","index":7,"n_rows":41,"n_cols":16,"rows_kept":41,"hidden":true,"merged":[[0,8,0,9],[3,3,3,6],[3,10,3,13],[17,3,17,6],[17,10,17,13],[31,3,31,6],[31,10,31,13]]}
[]
[]
[]
["Links","Rechts",null,{"$f":"Spelers!E8","v":0},{"$nulls":4},{"$f":"SUM(I7:I13)","v":0},null,{"$f":"Spelers!E14","v":0},{"$nulls":4},{"$f":"SUM(P7:P13)","v":2}]
[]
[{"$nulls":4},"Hcp","Score",{"$nulls":5},"Hcp","Score"]
[true,true,"þ",{"$f":"Spelers!B8","v":0},{"$f":"IF(A7=TRUE,Spelers!D8,\"\")","v":0},null,{"$f":"IF(A7=TRUE,SUM(E7+F7),\"\")","v":0},null,null,"þ",{"$f":"Spelers!B14","v":0},{"$f":"IF(B7=TRUE,Spelers!D14,\"\")","v":0},null,{"$f":"IF(B7=TRUE,SUM(L7+M7),\"\")","v":0}]
[true,true,"þ",{"$f":"Spelers!B9","v":0},{"$f":"IF(A8=TRUE,Spelers!D9,\"\")","v":0},null,0,null,null,"þ",{"$f":"Spelers!B15","v":0},{"$f":"IF(B8=TRUE,Spelers!D15,\"\")","v":0},null,0]
[true,true,"þ",{"$f":"Spelers!B10","v":0},{"$f":"IF(A9=TRUE,Spelers!D10,\"\")","v":0},null,0,null,null,"þ",{"$f":"Spelers!B16","v":0},{"$f":"IF(B9=TRUE,Spelers!D16,\"\")","v":0},null,0]
[false,false,"¨",{"$f":"Spelers!B11","v":0},{"$f":"IF(A10=TRUE,Spelers!D11,\"\")","v":""},null,"",null,null,"¨",{"$f":"Spelers!B17","v":0},{"$f":"IF(B10=TRUE,Spelers!D17,\"\")","v":""},null,""]
[false,false,"¨",{"$f":"Spelers!B12","v":0},{"$f":"IF(A11=TRUE,Spelers!D12,\"\")","v":""},null,"",null,null,"¨",{"$f":"Spelers!B18","v":0},{"$f":"IF(B11=TRUE,Spelers!D18,\"\")","v":""},null,""]
[false,false,"¨",{"$f":"Spelers!B13","v":0},{"$f":"IF(A12=TRUE,Spelers!D13,\"\")","v":""},null,"",null,null,"¨",{"$f":"Spelers!B19","v":0},{"$f":"IF(B12=TRUE,Spelers!D19,\"\")","v":""},null,""]
[{"$nulls":4},{"$f":"SUM(E7:E12)","v":0},"TOTAAL",{"$f":"SUM(G7:G12)","v":0},null,0,null,null,{"$f":"SUM(L7:L12)","v":0},"TOTAAL",{"$f":"SUM(N7:N12)","v":0},null,2]
[]
[]
[]
[]
["Links","Rechts",null,{"$f":"Spelers!E2","v":0},{"$nulls":4},{"$f":"SUM(I21:I27)","v":2},null,{"$f":"Spelers!E32","v":0},{"$nulls":4},{"$f":"SUM(P21:P27)","v":0}]
[]
[{"$nulls":4},"Hcp","Score",{"$nulls":5},"Hcp","Score"]
[true,true,"þ",{"$f":"Spelers!B2","v":0},{"$f":"IF(A21=TRUE,Spelers!D2,\"\")","v":0},null,{"$f":"IF(A21=TRUE,SUM(E21+F21),\"\")","v":0},null,null,"þ",{"$f":"Spelers!B32","v":0},{"$f":"IF(B21=TRUE,Spelers!D32,\"\")","v":0},null,{"$f":"IF(B21=TRUE,SUM(L21+M21),\"\")","v":0}]
[true,true,"þ",{"$f":"Spelers!B3","v":0},{"$f":"IF(A22=TRUE,Spelers!D3,\"\")","v":0},null,0,null,null,"þ",{"$f":"Spelers!B33","v":0},{"$f":"IF(B22=TRUE,Spelers!D33,\"\")","v":0},null,0]
[true,true,"þ",{"$f":"Spelers!B4","v":0},{"$f":"IF(A23=TRUE,Spelers!D4,\"\")","v":0},null,0,null,null,"þ",{"$f":"Spelers!B34","v":0},{"$f":"IF(B23=TRUE,Spelers!D34,\"\")","v":0},null,0]
[false,false,"¨",{"$f":"Spelers!B5","v":0},{"$f":"IF(A24=TRUE,Spelers!D5,\"\")","v":""},null,"",null,null,"¨",{"$f":"Spelers!B35","v":0},{"$f":"IF(B24=TRUE,Spelers!D35,\"\")","v":""},null,""]
[false,false,"¨",{"$f":"Spelers!B6","v":0},{"$f":"IF(A25=TRUE,Spelers!D6,\"\")","v":""},null,"",null,null,"¨",{"$f":"Spelers!B36","v":0},{"$f":"IF(B25=TRUE,Spelers!D36,\"\")","v":""},null,""]
[false,false,"¨",{"$f":"Spelers!B7","v":0},{"$f":"IF(A26=TRUE,Spelers!D7,\"\")","v":""},null,"",null,null,"¨",{"$f":"Spelers!B37","v":0},{"$f":"IF(B26=TRUE,Spelers!D37,\"\")","v":""},null,""]
[{"$nulls":4},{"$f":"SUM(E21:E26)","v":0},"TOTAAL",{"$f":"SUM(G21:G26)","v":0},null,2,null,null,{"$f":"SUM(L21:L26)","v":0},"TOTAAL",{"$f":"SUM(N21:N26)","v":0},null,0]
[]
[]
[]
[]
["Links","Rechts",null,{"$f":"Spelers!E20","v":0},{"$nulls":4},{"$f":"SUM(I35:I41)","v":2},null,{"$f":"Spelers!E26","v":0},{"$nulls":4},{"$f":"SUM(P35:P41)","v":0}]
[]
[{"$nulls":4},"Hcp","Score",{"$nulls":5},"Hcp","Score"]
[true,true,"þ",{"$f":"Spelers!B20","v":0},{"$f":"IF(A35=TRUE,Spelers!D20,\"\")","v":0},null,{"$f":"IF(A35=TRUE,SUM(E35+F35),\"\")","v":0},null,null,"þ",{"$f":"Spelers!B26","v":0},{"$f":"IF(B35=TRUE,Spelers!D26,\"\")","v":0},null,{"$f":"IF(B35=TRUE,SUM(L35+M35),\"\")","v":0}]
[true,true,"þ",{"$f":"Spelers!B21","v":0},{"$f":"IF(A36=TRUE,Spelers!D21,\"\")","v":0},null,0,null,null,"þ",{"$f":"Spelers!B27","v":0},{"$f":"IF(B36=TRUE,Spelers!D27,\"\")","v":0},null,0]
[true,true,"þ",{"$f":"Spelers!B22","v":0},{"$f":"IF(A37=TRUE,Spelers!D22,\"\")","v":0},null,0,null,null,"þ",{"$f":"Spelers!B28","v":0},{"$f":"IF(B37=TRUE,Spelers!D28,\"\")","v":0},null,0]
[false,false,"¨",{"$f":"Spelers!B23","v":0},{"$f":"IF(A38=TRUE,Spelers!D23,\"\")","v":""},null,"",null,null,"¨",{"$f":"Spelers!B29","v":0},{"$f":"IF(B38=TRUE,Spelers!D29,\"\")","v":""},null,""]
[false,false,"¨",{"$f":"Spelers!B24","v":0},{"$f":"IF(A39=TRUE,Spelers!D24,\"\")","v":""},null,"",null,null,"¨",{"$f":"Spelers!B30","v":0},{"$f":"IF(B39=TRUE,Spelers!D30,\"\")","v":""},null,""]
[false,false,"¨",{"$f":"Spelers!B25","v":0},{"$f":"IF(A40=TRUE,Spelers!D25,\"\")","v":""},null,"",null,null,"¨",{"$f":"Spelers!B31","v":0},{"$f":"IF(B40=TRUE,Spelers!D31,\"\")","v":""},null,""]
[{"$nulls":4},{"$f":"SUM(E35:E40)","v":0},"TOTAAL",{"$f":"SUM(G35:G40)","v":0},null,2,null,null,{"$f":"SUM(L35:L40)","v":0},"TOTAAL",{"$f":"SUM(N35:N40)","v":0},null,0]

{"sheet":"Formulier2","index":8,"n_rows":40,"n_cols":15,"rows_kept":40,"hidden":true,"merged":[[0,4,0,6],[2,3,2,6],[2,10,2,13],[14,4,14,6],[16,3,16,6],[16,10,16,13],[28,4,28,6],[30,3,30,6],[30,10,30,13]]}
[{"$nulls":3},"GAME 2: ",{"$f":"Speelschema!E11","v":"BAAN  1 - 2"}]
[]
[{"$nulls":3},{"$f":"Spelers!E32","v":0},{"$nulls":6},{"$f":"Spelers!E20","v":0}]
[]
[{"$nulls":4},"Hcp","Score",{"$nulls":5},"Hcp","Score"]
[{"$nulls":3},{"$f":"Spelers!B32","v":0},{"$f":"Spelers!D32","v":0},null,{"$f":"IF(A6=TRUE,SUM(E6+F6),\"\")","v":""},{"$nulls":3},{"$f":"Spelers!B20","v":0},{"$f":"Spelers!D20","v":0},null,{"$f":"IF(B6=TRUE,SUM(L6+M6),\"\")","v":""}]
[{"$nulls":3},{"$f":"Spelers!B33","v":0},{"$f":"Spelers!D33","v":0},null,"",{"$nulls":3},{"$f":"Spelers!B21","v":0},{"$f":"Spelers!D21","v":0},null,""]
[{"$nulls":3},{"$f":"Spelers!B34","v":0},{"$f":"Spelers!D34","v":0},null,"",{"$nulls":3},{"$f":"Spelers!B22","v":0},{"$f":"Spelers!D22","v":0},null,""]
[{"$nulls":3},{"$f":"Spelers!B35","v":0},{"$f":"Spelers!D35","v":0},null,"",{"$nulls":3},{"$f":"Spelers!B23","v":0},{"$f":"Spelers!D23","v":0},null,""]
[{"$nulls":3},{"$f":"Spelers!B36","v":0},{"$f":"Spelers!D36","v":0},null,"",{"$nulls":3},{"$f":"Spelers!B24","v":0},{"$f":"Spelers!D24","v":0},null,""]
[{"$nulls":3},{"$f":"Spelers!B37","v":0},{"$f":"Spelers!D37","v":0},null,"",{"$nulls":3},{"$f":"Spelers!B25","v":0},{"$f":"Spelers!D25","v":0},null,""]
[{"$nulls":5},"TOTAAL",{"$nulls":6},"TOTAAL"]
[]
[{"$nulls":3},"- - - - - - - - - - - - - - - - - - - - - - - - - -","- - - - - - - - - - - - - - - - - - - - - - - - - -","- - - - - - - - - - - - - - - - - - - - - - - - - -","- - - - - - - - - - - - - - - - - - - - - - - - - -","- - - - - - - - - - - - - - - - - - - - - - - - - -","- - - - - - - - - - - - - - - - - - - - - - - - - -","- - - - - - - - - - - - - - - - - - - - - - - - - -","- - - - - - - - - - - - - - - - - - - - - - - - - -","- - - - - - - - - - - - - - - - - - - - - - - - - -","- - - - - - - - - - - - - - - - - - - - - - - - - -","- - - - - - - - - - - - - - - - - - - - - - - - - -"," "]
[{"$nulls":3},"GAME 2: ",{"$f":"Speelschema!I11","v":"BAAN  3 - 4"}]
[]
[{"$nulls":3},{"$f":"Spelers!E8","v":0},{"$nulls":6},{"$f":"Spelers!E26","v":0}]
[]
[{"$nulls":4},"Hcp","Score",{"$nulls":5},"Hcp","Score"]
[{"$nulls":3},{"$f":"Spelers!B8","v":0},{"$f":"Spelers!D8","v":0},null,{"$f":"IF(A20=TRUE,SUM(E20+F20),\"\")","v":""},{"$nulls":3},{"$f":"Spelers!B26","v":0},{"$f":"Spelers!D26","v":0},null,{"$f":"IF(B20=TRUE,SUM(L20+M20),\"\")","v":""}]
[{"$nulls":3},{"$f":"Spelers!B9","v":0},{"$f":"Spelers!D9","v":0},null,"",{"$nulls":3},{"$f":"Spelers!B27","v":0},{"$f":"Spelers!D27","v":0},null,""]
[{"$nulls":3},{"$f":"Spelers!B10","v":0},{"$f":"Spelers!D10","v":0},null,"",{"$nulls":3},{"$f":"Spelers!B28","v":0},{"$f":"Spelers!D28","v":0},null,""]
[{"$nulls":3},{"$f":"Spelers!B11","v":0},{"$f":"Spelers!D11","v":0},null,"",{"$nulls":3},{"$f":"Spelers!B29","v":0},{"$f":"Spelers!D29","v":0},null,""]
[{"$nulls":3},{"$f":"Spelers!B12","v":0},{"$f":"Spelers!D12","v":0},null,"",{"$nulls":3},{"$f":"Spelers!B30","v":0},{"$f":"Spelers!D30","v":0},null,""]
[{"$nulls":3},{"$f":"Spelers!B13","v":0},{"$f":"Spelers!D13","v":0},null,"",{"$nulls":3},{"$f":"Spelers!B31","v":0},{"$f":"Spelers!D31","v":0},null,""]
[{"$nulls":5},"TOTAAL",{"$nulls":6},"TOTAAL"]
[]
[]
[{"$nulls":3},"GAME 2: ",{"$f":"Speelschema!M11","v":"BAAN  5 - 6"}]
[]
[{"$nulls":3},{"$f":"Spelers!E14","v":0},{"$nulls":6},{"$f":"Spelers!E2","v":0}]
[]
[{"$nulls":4},"Hcp","Score",{"$nulls":5},"Hcp","Score"]
[{"$nulls":3},{"$f":"Spelers!B14","v":0},{"$f":"Spelers!D14","v":0},null,{"$f":"IF(A34=TRUE,SUM(E34+F34),\"\")","v":""},{"$nulls":3},{"$f":"Spelers!B2","v":0},{"$f":"Spelers!D2","v":0},null,{"$f":"IF(B34=TRUE,SUM(L34+M34),\"\")","v":""}]
[{"$nulls":3},{"$f":"Spelers!B15","v":0},{"$f":"Spelers!D15","v":0},null,"",{"$nulls":3},{"$f":"Spelers!B3","v":0},{"$f":"Spelers!D3","v":0},null,""]
[{"$nulls":3},{"$f":"Spelers!B16","v":0},{"$f":"Spelers!D16","v":0},null,"",{"$nulls":3},{"$f":"Spelers!B4","v":0},{"$f":"Spelers!D4","v":0},null,""]
[{"$nulls":3},{"$f":"Spelers!B17","v":0},{"$f":"Spelers!D17","v":0},null,"",{"$nulls":3},{"$f":"Spelers!B5","v":0},{"$f":"Spelers!D5","v":0},null,""]
[{"$nulls":3},{"$f":"Spelers!B18","v":0},{"$f":"Spelers!D18","v":0},null,"",{"$nulls":3},{"$f":"Spelers!B6","v":0},{"$f":"Spelers!D6","v":0},null,""]
[{"$nulls":3},{"$f":"Spelers!B19","v":0},{"$f":"Spelers!D19","v":0},null,"",{"$nulls":3},{"$f":"Spelers!B7","v":0},{"$f":"Spelers!D7","v":0},null,""]
[{"$nulls":5},"TOTAAL",{"$nulls":6},"TOTAAL"]

{"sheet":"Formulier3","index":9,"n_rows":40,"n_cols":15,"rows_kept":40,"hidden":true,"merged":[[0,4,0,6],[2,3,2,6],[2,10,2,13],[14,4,14,6],[16,3,16,6],[16,10,16,13],[28,4,28,6],[30,3,30,6],[30,10,30,13]]}
[{"$nulls":3},"GAME 3:",{"$f":"Speelschema!E11","v":"BAAN  1 - 2"}]
[]
[{"$nulls":3},{"$f":"Spelers!E14","v":0},{"$nulls":6},{"$f":"Spelers!E26","v":0}]
[]
[{"$nulls":4},"Hcp","Score",{"$nulls":5},"Hcp","Score"]
[{"$nulls":3},{"$f":"Spelers!B14","v":0},{"$f":"Spelers!D14","v":0},null,{"$f":"IF(A6=TRUE,SUM(E6+F6),\"\")","v":""},{"$nulls":3},{"$f":"Spelers!B26","v":0},{"$f":"Spelers!D26","v":0},null,{"$f":"IF(B6=TRUE,SUM(L6+M6),\"\")","v":""}]
[{"$nulls":3},{"$f":"Spelers!B15","v":0},{"$f":"Spelers!D15","v":0},null,"",{"$nulls":3},{"$f":"Spelers!B27","v":0},{"$f":"Spelers!D27","v":0},null,""]
[{"$nulls":3},{"$f":"Spelers!B16","v":0},{"$f":"Spelers!D16","v":0},null,"",{"$nulls":3},{"$f":"Spelers!B28","v":0},{"$f":"Spelers!D28","v":0},null,""]
[{"$nulls":3},{"$f":"Spelers!B17","v":0},{"$f":"Spelers!D17","v":0},null,"",{"$nulls":3},{"$f":"Spelers!B29","v":0},{"$f":"Spelers!D29","v":0},null,""]
[{"$nulls":3},{"$f":"Spelers!B18","v":0},{"$f":"Spelers!D18","v":0},null,"",{"$nulls":3},{"$f":"Spelers!B30","v":0},{"$f":"Spelers!D30","v":0},null,""]
[{"$nulls":3},{"$f":"Spelers!B19","v":0},{"$f":"Spelers!D19","v":0},null,"",{"$nulls":3},{"$f":"Spelers!B31","v":0},{"$f":"Spelers!D31","v":0},null,""]
[{"$nulls":5},"TOTAAL",{"$nulls":6},"TOTAAL"]
[]
[{"$nulls":3},"- - - - - - - - - - - - - - - - - - - - - - - - - -","- - - - - - - - - - - - - - - - - - - - - - - - - -","- - - - - - - - - - - - - - - - - - - - - - - - - -","- - - - - - - - - - - - - - - - - - - - - - - - - -","- - - - - - - - - - - - - - - - - - - - - - - - - -","- - - - - - - - - - - - - - - - - - - - - - - - - -","- - - - - - - - - - - - - - - - - - - - - - - - - -","- - - - - - - - - - - - - - - - - - - - - - - - - -","- - - - - - - - - - - - - - - - - - - - - - - - - -","- - - - - - - - - - - - - - - - - - - - - - - - - -","- - - - - - - - - - - - - - - - - - - - - - - - - -"," "]
[{"$nulls":3},"GAME 3:",{"$f":"Speelschema!I11","v":"BAAN  3 - 4"}]
[]
[{"$nulls":3},{"$f":"Spelers!E20","v":0},{"$nulls":6},{"$f":"Spelers!E2","v":0}]
[]
[{"$nulls":4},"Hcp","Score",{"$nulls":5},"Hcp","Score"]
[{"$nulls":3},{"$f":"Spelers!B20","v":0},{"$f":"Spelers!D20","v":0},null,{"$f":"IF(A20=TRUE,SUM(E20+F20),\"\")","v":""},{"$nulls":3},{"$f":"Spelers!B2","v":0},{"$f":"Spelers!D2","v":0},null,{"$f":"IF(B20=TRUE,SUM(L20+M20),\"\")","v":""}]
[{"$nulls":3},{"$f":"Spelers!B21","v":0},{"$f":"Spelers!D21","v":0},null,"",{"$nulls":3},{"$f":"Spelers!B3","v":0},{"$f":"Spelers!D3","v":0},null,""]
[{"$nulls":3},{"$f":"Spelers!B22","v":0},{"$f":"Spelers!D22","v":0},null,"",{"$nulls":3},{"$f":"Spelers!B4","v":0},{"$f":"Spelers!D4","v":0},null,""]
[{"$nulls":3},{"$f":"Spelers!B23","v":0},{"$f":"Spelers!D23","v":0},null,"",{"$nulls":3},{"$f":"Spelers!B5","v":0},{"$f":"Spelers!D5","v":0},null,""]
[{"$nulls":3},{"$f":"Spelers!B24","v":0},{"$f":"Spelers!D24","v":0},null,"",{"$nulls":3},{"$f":"Spelers!B6","v":0},{"$f":"Spelers!D6","v":0},null,""]
[{"$nulls":3},{"$f":"Spelers!B25","v":0},{"$f":"Spelers!D25","v":0},null,"",{"$nulls":3},{"$f":"Spelers!B7","v":0},{"$f":"Spelers!D7","v":0},null,""]
[{"$nulls":5},"TOTAAL",{"$nulls":6},"TOTAAL"]
[]
[]
[{"$nulls":3},"GAME 3:",{"$f":"Speelschema!M11","v":"BAAN  5 - 6"}]
[]
[{"$nulls":3},{"$f":"Spelers!E32","v":0},{"$nulls":6},{"$f":"Spelers!E8","v":0}]
[]
[{"$nulls":4},"Hcp","Score",{"$nulls":5},"Hcp","Score"]
[{"$nulls":3},{"$f":"Spelers!B32","v":0},{"$f":"Spelers!D32","v":0},null,{"$f":"IF(A34=TRUE,SUM(E34+F34),\"\")","v":""},{"$nulls":3},{"$f":"Spelers!B8","v":0},{"$f":"Spelers!D8","v":0},null,{"$f":"IF(B34=TRUE,SUM(L34+M34),\"\")","v":""}]
[{"$nulls":3},{"$f":"Spelers!B33","v":0},{"$f":"Spelers!D33","v":0},null,"",{"$nulls":3},{"$f":"Spelers!B9","v":0},{"$f":"Spelers!D9","v":0},null,""]
[{"$nulls":3},{"$f":"Spelers!B34","v":0},{"$f":"Spelers!D34","v":0},null,"",{"$nulls":3},{"$f":"Spelers!B10","v":0},{"$f":"Spelers!D10","v":0},null,""]
[{"$nulls":3},{"$f":"Spelers!B35","v":0},{"$f":"Spelers!D35","v":0},null,"",{"$nulls":3},{"$f":"Spelers!B11","v":0},{"$f":"Spelers!D11","v":0},null,""]
[{"$nulls":3},{"$f":"Spelers!B36","v":0},{"$f":"Spelers!D36","v":0},null,"",{"$nulls":3},{"$f":"Spelers!B12","v":0},{"$f":"Spelers!D12","v":0},null,""]
[{"$nulls":3},{"$f":"Spelers!B37","v":0},{"$f":"Spelers!D37","v":0},null,"",{"$nulls":3},{"$f":"Spelers!B13","v":0},{"$f":"Spelers!D13","v":0},null,""]
[{"$nulls":5},"TOTAAL",{"$nulls":6},"TOTAAL"]

{"sheet":"Formulier4","index":10,"n_rows":40,"n_cols":15,"rows_kept":40,"hidden":true,"merged":[[0,4,0,6],[2,3,2,6],[2,10,2,13],[14,4,14,6],[16,3,16,6],[16,10,16,13],[28,4,28,6],[30,3,30,6],[30,10,30,13]]}
[{"$nulls":3},"GAME 4: ",{"$f":"Speelschema!E11","v":"BAAN  1 - 2"}]
[]
[{"$nulls":3},{"$f":"Spelers!E8","v":0},{"$nulls":6},{"$f":"Spelers!E14","v":0}]
[]
[{"$nulls":4},"Hcp","Score",{"$nulls":5},"Hcp","Score"]
[{"$nulls":3},{"$f":"Spelers!B8","v":0},{"$f":"Spelers!D8","v":0},null,{"$f":"IF(A6=TRUE,SUM(E6+F6),\"\")","v":""},{"$nulls":3},{"$f":"Spelers!B14","v":0},{"$f":"Spelers!D14","v":0},null,{"$f":"IF(B6=TRUE,SUM(L6+M6),\"\")","v":""}]
[{"$nulls":3},{"$f":"Spelers!B9","v":0},{"$f":"Spelers!D9","v":0},null,"",{"$nulls":3},{"$f":"Spelers!B15","v":0},{"$f":"Spelers!D15","v":0},null,""]
[{"$nulls":3},{"$f":"Spelers!B10","v":0},{"$f":"Spelers!D10","v":0},null,"",{"$nulls":3},{"$f":"Spelers!B16","v":0},{"$f":"Spelers!D16","v":0},null,""]
[{"$nulls":3},{"$f":"Spelers!B11","v":0},{"$f":"Spelers!D11","v":0},null,"",{"$nulls":3},{"$f":"Spelers!B17","v":0},{"$f":"Spelers!D17","v":0},null,""]
[{"$nulls":3},{"$f":"Spelers!B12","v":0},{"$f":"Spelers!D12","v":0},null,"",{"$nulls":3},{"$f":"Spelers!B18","v":0},{"$f":"Spelers!D18","v":0},null,""]
[{"$nulls":3},{"$f":"Spelers!B13","v":0},{"$f":"Spelers!D13","v":0},null,"",{"$nulls":3},{"$f":"Spelers!B19","v":0},{"$f":"Spelers!D19","v":0},null,""]
[{"$nulls":5},"TOTAAL",{"$nulls":6},"TOTAAL"]
[]
[{"$nulls":3},"- - - - - - - - - - - - - - - - - - - - - - - - - -","- - - - - - - - - - - - - - - - - - - - - - - - - -","- - - - - - - - - - - - - - - - - - - - - - - - - -","- - - - - - - - - - - - - - - - - - - - - - - - - -","- - - - - - - - - - - - - - - - - - - - - - - - - -","- - - - - - - - - - - - - - - - - - - - - - - - - -","- - - - - - - - - - - - - - - - - - - - - - - - - -","- - - - - - - - - - - - - - - - - - - - - - - - - -","- - - - - - - - - - - - - - - - - - - - - - - - - -","- - - - - - - - - - - - - - - - - - - - - - - - - -","- - - - - - - - - - - - - - - - - - - - - - - - - -"," "]
[{"$nulls":3},"GAME 4:",{"$f":"Speelschema!I11","v":"BAAN  3 - 4"}]
[]
[{"$nulls":3},{"$f":"Spelers!E2","v":0},{"$nulls":6},{"$f":"Spelers!E32","v":0}]
[]
[{"$nulls":4},"Hcp","Score",{"$nulls":5},"Hcp","Score"]
[{"$nulls":3},{"$f":"Spelers!B2","v":0},{"$f":"Spelers!D2","v":0},null,{"$f":"IF(A20=TRUE,SUM(E20+F20),\"\")","v":""},{"$nulls":3},{"$f":"Spelers!B32","v":0},{"$f":"Spelers!D32","v":0},null,{"$f":"IF(B20=TRUE,SUM(L20+M20),\"\")","v":""}]
[{"$nulls":3},{"$f":"Spelers!B3","v":0},{"$f":"Spelers!D3","v":0},null,"",{"$nulls":3},{"$f":"Spelers!B33","v":0},{"$f":"Spelers!D33","v":0},null,""]
[{"$nulls":3},{"$f":"Spelers!B4","v":0},{"$f":"Spelers!D4","v":0},null,"",{"$nulls":3},{"$f":"Spelers!B34","v":0},{"$f":"Spelers!D34","v":0},null,""]
[{"$nulls":3},{"$f":"Spelers!B5","v":0},{"$f":"Spelers!D5","v":0},null,"",{"$nulls":3},{"$f":"Spelers!B35","v":0},{"$f":"Spelers!D35","v":0},null,""]
[{"$nulls":3},{"$f":"Spelers!B6","v":0},{"$f":"Spelers!D6","v":0},null,"",{"$nulls":3},{"$f":"Spelers!B36","v":0},{"$f":"Spelers!D36","v":0},null,""]
[{"$nulls":3},{"$f":"Spelers!B7","v":0},{"$f":"Spelers!D7","v":0},null,"",{"$nulls":3},{"$f":"Spelers!B37","v":0},{"$f":"Spelers!D37","v":0},null,""]
[{"$nulls":5},"TOTAAL",{"$nulls":6},"TOTAAL"]
[]
[]
[{"$nulls":3},"GAME 4: ",{"$f":"Speelschema!M11","v":"BAAN  5 - 6"}]
[]
[{"$nulls":3},{"$f":"Spelers!E20","v":0},{"$nulls":6},{"$f":"Spelers!E26","v":0}]
[]
[{"$nulls":4},"Hcp","Score",{"$nulls":5},"Hcp","Score"]
[{"$nulls":3},{"$f":"Spelers!B20","v":0},{"$f":"Spelers!D20","v":0},null,{"$f":"IF(A34=TRUE,SUM(E34+F34),\"\")","v":""},{"$nulls":3},{"$f":"Spelers!B26","v":0},{"$f":"Spelers!D26","v":0},null,{"$f":"IF(B34=TRUE,SUM(L34+M34),\"\")","v":""}]
[{"$nulls":3},{"$f":"Spelers!B21","v":0},{"$f":"Spelers!D21","v":0},null,"",{"$nulls":3},{"$f":"Spelers!B27","v":0},{"$f":"Spelers!D27","v":0},null,""]
[{"$nulls":3},{"$f":"Spelers!B22","v":0},{"$f":"Spelers!D22","v":0},null,"",{"$nulls":3},{"$f":"Spelers!B28","v":0},{"$f":"Spelers!D28","v":0},null,""]
[{"$nulls":3},{"$f":"Spelers!B23","v":0},{"$f":"Spelers!D23","v":0},null,"",{"$nulls":3},{"$f":"Spelers!B29","v":0},{"$f":"Spelers!D29","v":0},null,""]
[{"$nulls":3},{"$f":"Spelers!B24","v":0},{"$f":"Spelers!D24","v":0},null,"",{"$nulls":3},{"$f":"Spelers!B30","v":0},{"$f":"Spelers!D30","v":0},null,""]
[{"$nulls":3},{"$f":"Spelers!B25","v":0},{"$f":"Spelers!D25","v":0},null,"",{"$nulls":3},{"$f":"Spelers!B31","v":0},{"$f":"Spelers!D31","v":0},null,""]
[{"$nulls":5},"TOTAAL",{"$f":"SUM(G34:G39)","v":0},{"$nulls":5},"TOTAAL"]

{"sheet":"Formulier5","index":11,"n_rows":40,"n_cols":15,"rows_kept":40,"hidden":true,"merged":[[0,4,0,6],[2,3,2,6],[2,10,2,13],[14,4,14,6],[16,3,16,6],[16,10,16,13],[28,4,28,6],[30,3,30,6],[30,10,30,13]]}
[{"$nulls":3},"GAME 5:",{"$f":"Speelschema!E11","v":"BAAN  1 - 2"}]
[]
[{"$nulls":3},{"$f":"Spelers!E26","v":0},{"$nulls":6},{"$f":"Spelers!E2","v":0}]
[]
[{"$nulls":4},"Hcp","Score",{"$nulls":5},"Hcp","Score"]
[{"$nulls":3},{"$f":"Spelers!B26","v":0},{"$f":"Spelers!D26","v":0},null,{"$f":"IF(A6=TRUE,SUM(E6+F6),\"\")","v":""},{"$nulls":3},{"$f":"Spelers!B2","v":0},{"$f":"Spelers!D2","v":0},null,{"$f":"IF(B6=TRUE,SUM(L6+M6),\"\")","v":""}]
[{"$nulls":3},{"$f":"Spelers!B27","v":0},{"$f":"Spelers!D27","v":0},null,"",{"$nulls":3},{"$f":"Spelers!B3","v":0},{"$f":"Spelers!D3","v":0},null,""]
[{"$nulls":3},{"$f":"Spelers!B28","v":0},{"$f":"Spelers!D28","v":0},null,"",{"$nulls":3},{"$f":"Spelers!B4","v":0},{"$f":"Spelers!D4","v":0},null,""]
[{"$nulls":3},{"$f":"Spelers!B29","v":0},{"$f":"Spelers!D29","v":0},null,"",{"$nulls":3},{"$f":"Spelers!B5","v":0},{"$f":"Spelers!D5","v":0},null,""]
[{"$nulls":3},{"$f":"Spelers!B30","v":0},{"$f":"Spelers!D30","v":0},null,"",{"$nulls":3},{"$f":"Spelers!B6","v":0},{"$f":"Spelers!D6","v":0},null,""]
[{"$nulls":3},{"$f":"Spelers!B31","v":0},{"$f":"Spelers!D31","v":0},null,"",{"$nulls":3},{"$f":"Spelers!B7","v":0},{"$f":"Spelers!D7","v":0},null,""]
[{"$nulls":5},"TOTAAL",{"$nulls":6},"TOTAAL"]
[{"$nulls":3},"- - - - - - - - - - - - - - - - - - - - - - - - - -","- - - - - - - - - - - - - - - - - - - - - - - - - -","- - - - - - - - - - - - - - - - - - - - - - - - - -","- - - - - - - - - - - - - - - - - - - - - - - - - -","- - - - - - - - - - - - - - - - - - - - - - - - - -","- - - - - - - - - - - - - - - - - - - - - - - - - -","- - - - - - - - - - - - - - - - - - - - - - - - - -","- - - - - - - - - - - - - - - - - - - - - - - - - -","- - - - - - - - - - - - - - - - - - - - - - - - - -","- - - - - - - - - - - - - - - - - - - - - - - - - -","- - - - - - - - - - - - - - - - - - - - - - - - - -"," "]
[]
[{"$nulls":3},"GAME 5: ",{"$f":"Speelschema!I11","v":"BAAN  3 - 4"}]
[]
[{"$nulls":3},{"$f":"Spelers!E32","v":0},{"$nulls":6},{"$f":"Spelers!E14","v":0}]
[]
[{"$nulls":4},"Hcp","Score",{"$nulls":5},"Hcp","Score"]
[{"$nulls":3},{"$f":"Spelers!B32","v":0},{"$f":"Spelers!D32","v":0},null,{"$f":"IF(A20=TRUE,SUM(E20+F20),\"\")","v":""},{"$nulls":3},{"$f":"Spelers!B14","v":0},{"$f":"Spelers!D14","v":0},null,{"$f":"IF(B20=TRUE,SUM(L20+M20),\"\")","v":""}]
[{"$nulls":3},{"$f":"Spelers!B33","v":0},{"$f":"Spelers!D33","v":0},null,"",{"$nulls":3},{"$f":"Spelers!B15","v":0},{"$f":"Spelers!D15","v":0},null,""]
[{"$nulls":3},{"$f":"Spelers!B34","v":0},{"$f":"Spelers!D34","v":0},null,"",{"$nulls":3},{"$f":"Spelers!B16","v":0},{"$f":"Spelers!D16","v":0},null,""]
[{"$nulls":3},{"$f":"Spelers!B35","v":0},{"$f":"Spelers!D35","v":0},null,"",{"$nulls":3},{"$f":"Spelers!B17","v":0},{"$f":"Spelers!D17","v":0},null,""]
[{"$nulls":3},{"$f":"Spelers!B36","v":0},{"$f":"Spelers!D36","v":0},null,"",{"$nulls":3},{"$f":"Spelers!B18","v":0},{"$f":"Spelers!D18","v":0},null,""]
[{"$nulls":3},{"$f":"Spelers!B37","v":0},{"$f":"Spelers!D37","v":0},null,"",{"$nulls":3},{"$f":"Spelers!B19","v":0},{"$f":"Spelers!D19","v":0},null,""]
[{"$nulls":4},{"$f":"SUM(E20:E25)","v":0},"TOTAAL",{"$nulls":6},"TOTAAL"]
[]
[]
[{"$nulls":3},"GAME 5:",{"$f":"Speelschema!M11","v":"BAAN  5 - 6"}]
[]
[{"$nulls":3},{"$f":"Spelers!E8","v":0},{"$nulls":6},{"$f":"Spelers!E20","v":0}]
[]
[{"$nulls":4},"Hcp","Score",{"$nulls":5},"Hcp","Score"]
[{"$nulls":3},{"$f":"Spelers!B8","v":0},{"$f":"Spelers!D8","v":0},null,{"$f":"IF(A34=TRUE,SUM(E34+F34),\"\")","v":""},{"$nulls":3},{"$f":"Spelers!B20","v":0},{"$f":"Spelers!D20","v":0},null,{"$f":"IF(B34=TRUE,SUM(L34+M34),\"\")","v":""}]
[{"$nulls":3},{"$f":"Spelers!B9","v":0},{"$f":"Spelers!D9","v":0},null,"",{"$nulls":3},{"$f":"Spelers!B21","v":0},{"$f":"Spelers!D21","v":0},null,""]
[{"$nulls":3},{"$f":"Spelers!B10","v":0},{"$f":"Spelers!D10","v":0},null,"",{"$nulls":3},{"$f":"Spelers!B22","v":0},{"$f":"Spelers!D22","v":0},null,""]
[{"$nulls":3},{"$f":"Spelers!B11","v":0},{"$f":"Spelers!D11","v":0},null,"",{"$nulls":3},{"$f":"Spelers!B23","v":0},{"$f":"Spelers!D23","v":0},null,""]
[{"$nulls":3},{"$f":"Spelers!B12","v":0},{"$f":"Spelers!D12","v":0},null,"",{"$nulls":3},{"$f":"Spelers!B24","v":0},{"$f":"Spelers!D24","v":0},null,""]
[{"$nulls":3},{"$f":"Spelers!B13","v":0},{"$f":"Spelers!D13","v":0},null,"",{"$nulls":3},{"$f":"Spelers!B25","v":0},{"$f":"Spelers!D25","v":0},null,""]
[{"$nulls":5},"TOTAAL",{"$nulls":6},"TOTAAL"]

{"sheet":"Spelers","index":12,"n_rows":37,"n_cols":18,"rows_kept":37,"hidden":true}
[null,"Naam","Pasgem.","Hcp","Teamnaam","Game 1","Game 2","Game 3","Game 4","Game 5","Totaal","Hgst Game","Gemiddelde Scratch","Games",null,230,80,64]
[{"$nulls":3},{"$f":"IF(C2<>\"\",IF(Q2>$R$1,$R$1,Q2),0)","v":0},null,{"$f":"Game1!$F7","v":0},{"$f":"Game2!$M35","v":0},{"$f":"Game3!$M21","v":0},{"$f":"Game4!$F21","v":0},{"$f":"Game5!$M7","v":0},{"$f":"SUM(F2:J2)","v":0},{"$f":"MAX(F2:J2)","v":0},{"$f":"IF(K2<>0,SUM(K2/N2),0)","v":{"v":0,"d":"0.00"}},{"$f":"COUNTIF(F2:J2,\">0\")","v":0},null,{"$f":"SUM($P$1-C2)","v":230},{"$f":"TRUNC(SUM(($Q$1*P2)/100))","v":184}]
[{"$nulls":3},0,null,{"$f":"Game1!$F8","v":0},{"$f":"Game2!$M36","v":0},{"$f":"Game3!$M22","v":0},{"$f":"Game4!$F22","v":0},{"$f":"Game5!$M8","v":0},0,{"$f":"MAX(F3:J3)","v":0},{"v":0,"d":"0.00"},0,null,{"$f":"SUM($P$1-C3)","v":230},{"$f":"TRUNC(SUM(($Q$1*P3)/100))","v":184}]
[{"$nulls":3},0,null,{"$f":"Game1!$F9","v":0},{"$f":"Game2!$M37","v":0},{"$f":"Game3!$M23","v":0},{"$f":"Game4!$F23","v":0},{"$f":"Game5!$M9","v":0},0,0,{"v":0,"d":"0.00"},0,null,{"$f":"SUM($P$1-C4)","v":230},184]
[{"$nulls":3},0,null,{"$f":"Game1!$F10","v":0},{"$f":"Game2!$M38","v":0},{"$f":"Game3!$M24","v":0},{"$f":"Game4!$F24","v":0},{"$f":"Game5!$M10","v":0},0,0,{"v":0,"d":"0.00"},0,null,{"$f":"SUM($P$1-C5)","v":230},184]
[{"$nulls":3},0,null,{"$f":"Game1!$F11","v":0},{"$f":"Game2!$M39","v":0},{"$f":"Game3!$M25","v":0},{"$f":"Game4!$F25","v":0},{"$f":"Game5!$M11","v":0},0,0,{"v":0,"d":"0.00"},0,null,{"$f":"SUM($P$1-C6)","v":230},184]
[{"$nulls":3},0,null,{"$f":"Game1!$F12","v":0},{"$f":"Game2!$M40","v":0},{"$f":"Game3!$M26","v":0},{"$f":"Game4!$F26","v":0},{"$f":"Game5!$M12","v":0},0,0,{"v":0,"d":"0.00"},0,null,{"$f":"SUM($P$1-C7)","v":230},184]
[{"$nulls":3},0,null,{"$f":"Game1!$M7","v":0},{"$f":"Game2!$F21","v":0},{"$f":"Game3!$M35","v":0},{"$f":"Game4!$F7","v":0},{"$f":"Game5!$F35","v":0},0,0,{"v":0,"d":"0.00"},0,null,230,184]
[{"$nulls":3},0,null,{"$f":"Game1!$M8","v":0},{"$f":"Game2!$F22","v":0},{"$f":"Game3!$M36","v":0},{"$f":"Game4!$F8","v":0},{"$f":"Game5!$F36","v":0},0,0,{"v":0,"d":"0.00"},0,null,230,184]
[{"$nulls":3},0,null,{"$f":"Game1!$M9","v":0},{"$f":"Game2!$F23","v":0},{"$f":"Game3!$M37","v":0},{"$f":"Game4!$F9","v":0},{"$f":"Game5!$F37","v":0},0,0,{"v":0,"d":"0.00"},0,null,230,184]
[{"$nulls":3},0,null,{"$f":"Game1!$M10","v":0},{"$f":"Game2!$F24","v":0},{"$f":"Game3!$M38","v":0},{"$f":"Game4!$F10","v":0},{"$f":"Game5!$F38","v":0},0,0,{"v":0,"d":"0.00"},0,null,230,184]
[{"$nulls":3},0,null,{"$f":"Game1!$M11","v":0},{"$f":"Game2!$F25","v":0},{"$f":"Game3!$M39","v":0},{"$f":"Game4!$F11","v":0},{"$f":"Game5!$F39","v":0},0,0,{"v":0,"d":"0.00"},0,null,230,184]
[{"$nulls":3},0,null,{"$f":"Game1!$M12","v":0},{"$f":"Game2!$F26","v":0},{"$f":"Game3!$M40","v":0},{"$f":"Game4!$F12","v":0},{"$f":"Game5!$F40","v":0},0,0,{"v":0,"d":"0.00"},0,null,230,184]
[{"$nulls":3},0,null,{"$f":"Game1!$F21","v":0},{"$f":"Game2!$F35","v":0},{"$f":"Game3!$F7","v":0},{"$f":"Game4!$M7","v":0},{"$f":"Game5!$M21","v":0},0,0,{"v":0,"d":"0.00"},0,null,230,184]
[{"$nulls":3},0,null,{"$f":"Game1!$F22","v":0},{"$f":"Game2!$F36","v":0},{"$f":"Game3!$F8","v":0},{"$f":"Game4!$M8","v":0},{"$f":"Game5!$M22","v":0},0,0,{"v":0,"d":"0.00"},0,null,230,184]
[{"$nulls":3},0,null,{"$f":"Game1!$F23","v":0},{"$f":"Game2!$F37","v":0},{"$f":"Game3!$F9","v":0},{"$f":"Game4!$M9","v":0},{"$f":"Game5!$M23","v":0},0,0,{"v":0,"d":"0.00"},0,null,230,184]
[{"$nulls":3},0,null,{"$f":"Game1!$F24","v":0},{"$f":"Game2!$F38","v":0},{"$f":"Game3!$F10","v":0},{"$f":"Game4!$M10","v":0},{"$f":"Game5!$M24","v":0},0,0,{"v":0,"d":"0.00"},0,null,230,184]
[{"$nulls":3},0,null,{"$f":"Game1!$F25","v":0},{"$f":"Game2!$F39","v":0},{"$f":"Game3!$F11","v":0},{"$f":"Game4!$M11","v":0},{"$f":"Game5!$M25","v":0},0,0,{"v":0,"d":"0.00"},0,null,230,184]
[{"$nulls":3},0,null,{"$f":"Game1!$F26","v":0},{"$f":"Game2!$F40","v":0},{"$f":"Game3!$F12","v":0},{"$f":"Game4!$M12","v":0},{"$f":"Game5!$M26","v":0},0,0,{"v":0,"d":"0.00"},0,null,230,184]
[{"$nulls":3},0,null,{"$f":"Game1!$M21","v":0},{"$f":"Game2!$M7","v":0},{"$f":"Game3!$F21","v":0},{"$f":"Game4!$F35","v":0},{"$f":"Game5!$M35","v":0},0,0,{"v":0,"d":"0.00"},0,null,230,184]
[{"$nulls":3},0,null,{"$f":"Game1!$M22","v":0},{"$f":"Game2!$M8","v":0},{"$f":"Game3!$F22","v":0},{"$f":"Game4!$F36","v":0},{"$f":"Game5!$M36","v":0},0,0,{"v":0,"d":"0.00"},0,null,230,184]
[{"$nulls":3},0,null,{"$f":"Game1!$M23","v":0},{"$f":"Game2!$M9","v":0},{"$f":"Game3!$F23","v":0},{"$f":"Game4!$F37","v":0},{"$f":"Game5!$M37","v":0},0,0,{"v":0,"d":"0.00"},0,null,230,184]
[{"$nulls":3},0,null,{"$f":"Game1!$M24","v":0},{"$f":"Game2!$M10","v":0},{"$f":"Game3!$F24","v":0},{"$f":"Game4!$F38","v":0},{"$f":"Game5!$M38","v":0},0,0,{"v":0,"d":"0.00"},0,null,230,184]
[{"$nulls":3},0,null,{"$f":"Game1!$M25","v":0},{"$f":"Game2!$M11","v":0},{"$f":"Game3!$F25","v":0},{"$f":"Game4!$F39","v":0},{"$f":"Game5!$M39","v":0},0,0,{"v":0,"d":"0.00"},0,null,230,184]
[{"$nulls":3},0,null,{"$f":"Game1!$M26","v":0},{"$f":"Game2!$M12","v":0},{"$f":"Game3!$F26","v":0},{"$f":"Game4!$F40","v":0},{"$f":"Game5!$M40","v":0},0,0,{"v":0,"d":"0.00"},0,null,230,184]
[{"$nulls":3},0,null,{"$f":"Game1!$F35","v":0},{"$f":"Game2!$M21","v":0},{"$f":"Game3!$M7","v":0},{"$f":"Game4!$M35","v":0},{"$f":"Game5!$F7","v":0},0,0,{"v":0,"d":"0.00"},0,null,230,184]
[{"$nulls":3},0,null,{"$f":"Game1!$F36","v":0},{"$f":"Game2!$M22","v":0},{"$f":"Game3!$M8","v":0},{"$f":"Game4!$M36","v":0},{"$f":"Game5!$F8","v":0},0,0,{"v":0,"d":"0.00"},0,null,230,184]
[{"$nulls":3},0,null,{"$f":"Game1!$F37","v":0},{"$f":"Game2!$M23","v":0},{"$f":"Game3!$M9","v":0},{"$f":"Game4!$M37","v":0},{"$f":"Game5!$F9","v":0},0,0,{"v":0,"d":"0.00"},0,null,230,184]
[{"$nulls":3},0,null,{"$f":"Game1!$F38","v":0},{"$f":"Game2!$M24","v":0},{"$f":"Game3!$M10","v":0},{"$f":"Game4!$M38","v":0},{"$f":"Game5!$F10","v":0},0,0,{"v":0,"d":"0.00"},0,null,230,184]
[{"$nulls":3},0,null,{"$f":"Game1!$F39","v":0},{"$f":"Game2!$M25","v":0},{"$f":"Game3!$M11","v":0},{"$f":"Game4!$M39","v":0},{"$f":"Game5!$F11","v":0},0,0,{"v":0,"d":"0.00"},0,null,230,184]
[{"$nulls":3},0,null,{"$f":"Game1!$F40","v":0},{"$f":"Game2!$M26","v":0},{"$f":"Game3!$M12","v":0},{"$f":"Game4!$M40","v":0},{"$f":"Game5!$F12","v":0},0,0,{"v":0,"d":"0.00"},0,null,230,184]
[{"$nulls":3},0,null,{"$f":"Game1!$M35","v":0},{"$f":"Game2!$F7","v":0},{"$f":"Game3!$F35","v":0},{"$f":"Game4!$M21","v":0},{"$f":"Game5!$F21","v":0},0,0,{"v":0,"d":"0.00"},0,null,230,184]
[{"$nulls":3},0,null,{"$f":"Game1!$M36","v":0},{"$f":"Game2!$F8","v":0},{"$f":"Game3!$F36","v":0},{"$f":"Game4!$M22","v":0},{"$f":"Game5!$F22","v":0},0,0,{"$f":"IF(K33<>0,SUM(K33/N33),0)","v":{"v":0,"d":"0.00"}},0,null,230,184]
[{"$nulls":3},0,null,{"$f":"Game1!$M37","v":0},{"$f":"Game2!$F9","v":0},{"$f":"Game3!$F37","v":0},{"$f":"Game4!$M23","v":0},{"$f":"Game5!$F23","v":0},0,0,{"$f":"IF(K34<>0,SUM(K34/N34),0)","v":{"v":0,"d":"0.00"}},0,null,230,184]
[{"$nulls":3},0,null,{"$f":"Game1!$M38","v":0},{"$f":"Game2!$F10","v":0},{"$f":"Game3!$F38","v":0},{"$f":"Game4!$M24","v":0},{"$f":"Game5!$F24","v":0},0,0,{"v":0,"d":"0.00"},0,null,230,184]
[{"$nulls":3},0,null,{"$f":"Game1!$M39","v":0},{"$f":"Game2!$F11","v":0},{"$f":"Game3!$F39","v":0},{"$f":"Game4!$M25","v":0},{"$f":"Game5!$F25","v":0},0,0,{"v":0,"d":"0.00"},0,null,230,184]
[{"$nulls":3},0,null,{"$f":"Game1!$M40","v":0},{"$f":"Game2!$F12","v":0},{"$f":"Game3!$F40","v":0},{"$f":"Game4!$M26","v":0},{"$f":"Game5!$F26","v":0},0,0,{"v":0,"d":"0.00"},0,null,230,184]

{"sheet":"Teams","index":13,"n_rows":9,"n_cols":15,"rows_kept":9,"hidden":true,"merged":[[1,1,2,1],[1,2,1,3],[1,4,1,5],[1,6,1,7],[1,8,1,9],[1,10,1,11],[1,13,1,14]]}
[]
[null,"TEAMNAAM","GAME 1",null,"GAME 2",null,"GAME 3",null,"GAME 4",null,"GAME 5",null,null,"TOTAAL"]
[null,null,"PINFALL","PUNTEN","PINFALL","PUNTEN","PINFALL","PUNTEN","PINFALL","PUNTEN","PINFALL","PUNTEN",null,"PINFALL","PUNTEN"]
[null,{"$f":"Spelers!E14","v":0},{"$f":"Game1!G27","v":0},{"$f":"Game1!I18","v":2},{"$f":"Game2!G41","v":0},{"$f":"Game2!I32","v":0},{"$f":"Game3!G13","v":0},{"$f":"Game3!I4","v":2},{"$f":"Game4!N13","v":0},{"$f":"Game4!P4","v":2},{"$f":"Game5!N27","v":0},{"$f":"Game5!P18","v":2},null,{"$f":"SUM(C4,E4,G4,I4,K4)","v":0},{"$f":"SUM(D4,F4,H4,J4,L4)","v":8}]
[null,{"$f":"Spelers!E20","v":0},{"$f":"Game1!N27","v":0},{"$f":"Game1!P18","v":0},{"$f":"Game2!N13","v":0},{"$f":"Game2!P4","v":2},{"$f":"Game3!G27","v":0},{"$f":"Game3!I18","v":2},{"$f":"Game4!G41","v":0},{"$f":"Game4!I32","v":2},{"$f":"Game5!N41","v":0},{"$f":"Game5!P32","v":0},null,{"$f":"SUM(C5,E5,G5,I5,K5)","v":0},{"$f":"SUM(D5,F5,H5,J5,L5)","v":6}]
[null,{"$f":"Spelers!E2","v":0},{"$f":"Game1!G13","v":0},{"$f":"Game1!I4","v":2},{"$f":"Game2!N41","v":0},{"$f":"Game2!P32","v":2},{"$f":"Game3!N27","v":0},{"$f":"Game3!P18","v":0},{"$f":"Game4!G27","v":0},{"$f":"Game4!I18","v":2},{"$f":"Game5!N13","v":0},{"$f":"Game5!P4","v":0},null,{"$f":"SUM(C6,E6,G6,I6,K6)","v":0},{"$f":"SUM(D6,F6,H6,J6,L6)","v":6}]
[null,{"$f":"Spelers!E26","v":0},{"$f":"Game1!G41","v":0},{"$f":"Game1!I32","v":0},{"$f":"Game2!N27","v":0},{"$f":"Game2!P18","v":2},{"$f":"Game3!N13","v":0},{"$f":"Game3!P4","v":0},{"$f":"Game4!N41","v":0},{"$f":"Game4!P32","v":0},{"$f":"Game5!G13","v":0},{"$f":"Game5!I4","v":2},null,{"$f":"SUM(C7,E7,G7,I7,K7)","v":0},{"$f":"SUM(D7,F7,H7,J7,L7)","v":4}]
[null,{"$f":"Spelers!E8","v":0},{"$f":"Game1!N13","v":0},{"$f":"Game1!P4","v":0},{"$f":"Game2!G27","v":0},{"$f":"Game2!I18","v":0},{"$f":"Game3!N41","v":0},{"$f":"Game3!P32","v":2},{"$f":"Game4!G13","v":0},{"$f":"Game4!I4","v":0},{"$f":"Game5!G41","v":0},{"$f":"Game5!I32","v":2},null,{"$f":"SUM(C8,E8,G8,I8,K8)","v":0},{"$f":"SUM(D8,F8,H8,J8,L8)","v":4}]
[null,{"$f":"Spelers!E32","v":0},{"$f":"Game1!N41","v":0},{"$f":"Game1!P32","v":2},{"$f":"Game2!G13","v":0},{"$f":"Game2!I4","v":0},{"$f":"Game3!G41","v":0},{"$f":"Game3!I32","v":0},{"$f":"Game4!N27","v":0},{"$f":"Game4!P18","v":0},{"$f":"Game5!G27","v":0},{"$f":"Game5!I18","v":0},null,{"$f":"SUM(C9,E9,G9,I9,K9)","v":0},{"$f":"SUM(D9,F9,H9,J9,L9)","v":2}]

{"sheet":"Scores","index":14,"n_rows":41,"n_cols":14,"rows_kept":41,"hidden":true}
[]
["Pl","Naam","Pasgem.","Hcp","Teamnaam","Game 1","Game 2","Game 3","Game 4","Game 5","Totaal","Hgst Game","Gemiddelde Scratch","Games"]
[{"$f":"ROW()-2","v":1},"Eric van Sabben",196,27,null,197,280,192,242,184,1095,280,{"v":219,"d":"219.00"},5]
[2,"Remco Verboon",204,20,null,220,269,201,203,193,1086,269,{"v":217.2,"d":"217.20"},5]
[3,"Antoinette Gijzel-Schijf",196,27,null,195,212,247,174,215,1043,247,{"v":208.6,"d":"208.60"},5]
[4,"Mitchel van Gend",211,15,null,246,174,205,184,218,1027,246,{"v":205.4,"d":"205.40"},5]
[5,"Ad Jelier",176,43,null,189,216,168,202,224,999,224,{"v":199.8,"d":"199.80"},5]
[6,"Hans Springvloet",192,30,null,173,195,217,212,184,981,217,{"v":196.2,"d":"196.20"},5]
[7,"Jos Nijland",184,36,null,185,170,186,212,193,946,212,{"v":189.2,"d":"189.20"},5]
[8,"Bernadette Schijf",205,20,null,169,197,191,177,203,937,203,{"v":187.4,"d":"187.40"},5]
[9,"Andrew Adami",177,42,null,179,160,187,207,193,926,207,{"v":185.2,"d":"185.20"},5]
[10,"Ad van Zitteren",162,54,"Leg maar neer",183,180,170,156,224,913,224,{"v":182.6,"d":"182.60"},5]
[11,"Mike Kikkert",165,52,null,215,157,173,203,130,878,215,{"v":175.6,"d":"175.60"},5]
[12,"Hanjo van den Wijngaart",159,56,"No Fear",162,214,140,192,150,858,214,{"v":171.6,"d":"171.60"},5]
[13,"Kelly van Gend-Verboon",193,29,"Gold Strike",190,159,199,138,167,853,199,{"v":170.6,"d":"170.60"},5]
[14,"Freddie Schijf",180,40,"De Thoolse brug",197,159,166,159,150,831,197,{"v":166.2,"d":"166.20"},5]
[15,"Thea Struijk",154,60,"Runners Up",192,125,147,184,160,808,192,{"v":161.6,"d":"161.60"},5]
[16,"Jan de Nooijer",175,44,null,148,178,154,131,133,744,178,{"v":148.8,"d":"148.80"},5]
[17,"Miranda Schijf",127,64,"De fladderaars",132,124,160,96,121,633,160,{"v":126.6,"d":"126.60"},4]
[18,"Adrie Struijk",169,48,null,151,167,127,9,0,454,167,{"v":113.5,"d":"113.50"},5]
{"$rows_empty":18}
[{"$f":"IF(B39<>\"\",ROW()-2,\"\")","v":""}]
[""]
[""]